BEGIN:VCALENDAR
VERSION:2.0
PRODID:-//Squarespace Inc/Squarespace 6//v6//EN
BEGIN:VEVENT
UID:51833459e4b0046126d05f16@squarespace.com
DTSTAMP:20130401T184445Z
DTSTART:20130415T190000Z
DTEND:20130415T200000Z
SUMMARY:Event One
END:VEVENT
END:VCALENDAR
